BEGIN:VCALENDAR
VERSION:2.0
PRODID:-//Šport Košice - ECPv5.10.1//NONSGML v1.0//EN
CALSCALE:GREGORIAN
METHOD:PUBLISH
X-WR-CALNAME:Šport Košice
X-ORIGINAL-URL:https://www.sportkosice.sk
X-WR-CALDESC:Udalosti pre Šport Košice
BEGIN:VTIMEZONE
TZID:Europe/Bratislava
BEGIN:DAYLIGHT
TZOFFSETFROM:+0100
TZOFFSETTO:+0200
TZNAME:CEST
DTSTART:20260329T010000
END:DAYLIGHT
BEGIN:STANDARD
TZOFFSETFROM:+0200
TZOFFSETTO:+0100
TZNAME:CET
DTSTART:20261025T010000
END:STANDARD
END:VTIMEZONE
BEGIN:VEVENT
DTSTART;TZID=Europe/Bratislava:20260214T180000
DTEND;TZID=Europe/Bratislava:20260214T200000
DTSTAMP:20260426T051238
CREATED:20260121T065232Z
LAST-MODIFIED:20260121T065435Z
UID:21388-1771092000-1771099200@www.sportkosice.sk
SUMMARY:20. kolo Florbal. extraliga mužov FaBK ATU KOŠICE vs. FBC Grasshoppers AC UNIZA Žilina
DESCRIPTION:20. kolo Florbal. extraliga mužov
URL:https://www.sportkosice.sk/podujatie/20-kolo-florbal-extraliga-muzov-fabk-atu-kosice-vs-fbc-grasshoppers-ac-uniza-zilina/
LOCATION:HÁDZANÁRSKA HALA SLAVOMÍRA ŠIPOŠA\, Alejová 2\, Košice\, 04011\, Slovenská republika
CATEGORIES:florbal
ATTACH;FMTTYPE=image/png:https://www.sportkosice.sk/wp-content/uploads/2026/01/rqO2peZg-8vpGpGbM.png
END:VEVENT
END:VCALENDAR