BEGIN:VCALENDAR
VERSION:2.0
PRODID:-//Šport Košice - ECPv5.10.1//NONSGML v1.0//EN
CALSCALE:GREGORIAN
METHOD:PUBLISH
X-WR-CALNAME:Šport Košice
X-ORIGINAL-URL:https://www.sportkosice.sk
X-WR-CALDESC:Udalosti pre Šport Košice
BEGIN:VTIMEZONE
TZID:Europe/Bratislava
BEGIN:DAYLIGHT
TZOFFSETFROM:+0100
TZOFFSETTO:+0200
TZNAME:CEST
DTSTART:20250330T010000
END:DAYLIGHT
BEGIN:STANDARD
TZOFFSETFROM:+0200
TZOFFSETTO:+0100
TZNAME:CET
DTSTART:20251026T010000
END:STANDARD
END:VTIMEZONE
BEGIN:VEVENT
DTSTART;TZID=Europe/Bratislava:20250515T183000
DTEND;TZID=Europe/Bratislava:20250515T203000
DTSTAMP:20260426T054420
CREATED:20250513T104228Z
LAST-MODIFIED:20250513T104228Z
UID:21195-1747333800-1747341000@www.sportkosice.sk
SUMMARY:2. finále PODPOR POHYB KOŠICE - Mimel Lučenec
DESCRIPTION: | Druhý finálový zápas je tu!\n\n Na domácej palubovke privítame vo štvrtok 15.5.2025 o 18:30 hod. Mimel Lučenec v druhom zápase finálovej série!\n Vstupné: 5\,-€/muži\, 3\,-€/ženy (deti do 15 rokov\, dôchodcovia a ŤZP vstup zdarma). V cene vstupenky 1.tombolový lístok zdarma.\nĎaľsie lístky do tomboly si môžete zakúpiť pri vstupe do haly. Cena 1.tombolového lístka je 2\,-€!\n Cez polčas sa môžete tešiť na tombolu a vystúpenie Tanečného súboru Suprémo.\n K dispozícii bude bufet s čapovaným pivom a nealkom.\n Vstup do haly bude pre divákov otvorený od 17:30 hod.\nLive prenos môžete sledovať na stanici Šport STVR!\n\n Ďakujeme partnerom za podporu:𝐇𝐄𝐋𝐏 𝐂𝐀𝐑 𝐬.𝐫.𝐨. - vaše náhradné vozidloIRON CLUBIZO4Odťahová Služba 0908566865https://pandake.skmatrom.skPub u žandára SlanecAuto-ValasRelyonSPORT PROIng. Miroslav Čižmár - Váš finančníkWellis SlovenskoREPROCENTRUMRádio Košice\nFandíme spolu! \n#zltomodrarodina #vvpp #ppke
URL:https://www.sportkosice.sk/podujatie/2-finale-podpor-pohyb-kosice-mimel-lucenec/
LOCATION:Športová hala Stará jazdiareň\, Pri jazdiarni 1\, Košice\, Košický kraj\, 040 01\, Slovenská republika
CATEGORIES:futsal
ATTACH;FMTTYPE=image/jpeg:https://www.sportkosice.sk/wp-content/uploads/2025/05/496150905_1264878092313304_3798308496320973249_n.jpg
END:VEVENT
END:VCALENDAR