BEGIN:VCALENDAR
VERSION:2.0
PRODID:-//Šport Košice - ECPv5.10.1//NONSGML v1.0//EN
CALSCALE:GREGORIAN
METHOD:PUBLISH
X-WR-CALNAME:Šport Košice
X-ORIGINAL-URL:https://www.sportkosice.sk
X-WR-CALDESC:Udalosti pre Šport Košice
BEGIN:VTIMEZONE
TZID:Europe/Bratislava
BEGIN:DAYLIGHT
TZOFFSETFROM:+0100
TZOFFSETTO:+0200
TZNAME:CEST
DTSTART:20250330T010000
END:DAYLIGHT
BEGIN:STANDARD
TZOFFSETFROM:+0200
TZOFFSETTO:+0100
TZNAME:CET
DTSTART:20251026T010000
END:STANDARD
END:VTIMEZONE
BEGIN:VEVENT
DTSTART;TZID=Europe/Bratislava:20250725T160000
DTEND;TZID=Europe/Bratislava:20250725T200000
DTSTAMP:20260426T044402
CREATED:20250724T055622Z
LAST-MODIFIED:20250724T055622Z
UID:21244-1753459200-1753473600@www.sportkosice.sk
SUMMARY:10. ROČNÍK ŠPORTOVÝ PIATOK V MESTSKOM PARKU 2025 - Lezecká stena a gymnastika
DESCRIPTION:V PIATOK V MESTSKOM PARKU VYRASTIE LEZECKÁ STENA. ČAKAJÚ VÁS AJ UKÁŽKY ŠPORTOVEJ GYMNASTIKY\, AKROBACIE A PARKÚRU \n\n\nKošické kultúrne a športové leto 2025 pokračuje druhým Športovým piatkom. V piatok 25. júla 2025 o 16:00 hod. sa ihrisko Playko v Mestskom parku zmení na miesto plné adrenalínu\, pohybu a nových zážitkov. \n\n\nNa svoje si prídu malí aj veľkí návštevníci\, čaká vás:\n Lezecká stena Rozlomity\, ktorú prinesie Horolezecký klub Rozlomity Košice\,\n ukážky športovej gymnastiky\, akrobacie a parkúru v podaní Gymnastik Košice\,\n veľký airtrack a špeciálne prekážky\, ktoré si pod dohľadom skúsených trénerov môžete vyskúšať aj sami.\n\n\n Klub Rozlomity Košice patrí k dlhoročným lídrom v lezeckom športe. Trénujú v ňom deti\, mládež aj študenti a patria k medailistom Slovenského pohára. Lezenie si v piatok vyskúšate na ich mobilnej stene priamo v parku.\n\n\n Klub Gymnastik Košice predvedie zostavy plné salt\, skokov\, rovnovážnych prvkov a akrobatických kombinácií. Zároveň si pripravili špeciálnu zónu s najväčším airtrackom na východnom Slovensku a ak sa odvážite\, môžete si niektoré prvky skúsiť sami.\n\n\n KEDY? Piatok 25. 7. 2025\, od 16:00 h\n KDE? Mestský park\, ihrisko Playko\n\n\n Kompletný program Košické kultúrne a športové leto 2025 nájdete na webe mesta Košice: https://static.kosice.sk/.../plagaty/KKL2025_program.pdf
URL:https://www.sportkosice.sk/podujatie/10-rocnik-sportovy-piatok-v-mestskom-parku-2025-lezecka-stena-a-gymnastika/
LOCATION:Mestský park v Košiciach\, Košice\, Košický kraj\, 04001\, Slovenská republika
CATEGORIES:kynologia
ATTACH;FMTTYPE=image/jpeg:https://www.sportkosice.sk/wp-content/uploads/2025/07/523437384_1216862863818785_1620183480233826769_n.jpg
ORGANIZER;CN="Oddelenie%20%C5%A1portu%20a%20ml%C3%A1de%C5%BEe":MAILTO:sportkosice@gmail.com
END:VEVENT
END:VCALENDAR