BEGIN:VCALENDAR
VERSION:2.0
PRODID:-//Šport Košice - ECPv5.10.1//NONSGML v1.0//EN
CALSCALE:GREGORIAN
METHOD:PUBLISH
X-WR-CALNAME:Šport Košice
X-ORIGINAL-URL:https://www.sportkosice.sk
X-WR-CALDESC:Udalosti pre Šport Košice
BEGIN:VTIMEZONE
TZID:Europe/Bratislava
BEGIN:DAYLIGHT
TZOFFSETFROM:+0100
TZOFFSETTO:+0200
TZNAME:CEST
DTSTART:20230326T010000
END:DAYLIGHT
BEGIN:STANDARD
TZOFFSETFROM:+0200
TZOFFSETTO:+0100
TZNAME:CET
DTSTART:20231029T010000
END:STANDARD
END:VTIMEZONE
BEGIN:VEVENT
DTSTART;TZID=Europe/Bratislava:20231001T153000
DTEND;TZID=Europe/Bratislava:20231001T173000
DTSTAMP:20260426T061918
CREATED:20230919T133920Z
LAST-MODIFIED:20231120T144607Z
UID:19773-1696174200-1696181400@www.sportkosice.sk
SUMMARY:1 liga žien v hádzanej ŠŠK BERNOLÁKOVÁ KOŠICE - ŠA Trenčín
DESCRIPTION:
URL:https://www.sportkosice.sk/podujatie/1-liga-zien-v-hadzanej-ssk-bernolakova-kosice-sa-trencin/
LOCATION:HANDBALL ARENA – Bernolákova 16\, Bernoláková 16\, Košice\, Košický kraj\, 04001\, Slovenská republika
CATEGORIES:hadzana
ATTACH;FMTTYPE=image/jpeg:https://www.sportkosice.sk/wp-content/uploads/2023/11/402100754_311151205184497_4675223845290781304_n.jpg
END:VEVENT
END:VCALENDAR